BEGIN:VCALENDAR
VERSION:2.0
PRODID:-//Tukios.com/
BEGIN:VEVENT
UID:05ab2c9d-3796-44d7-a4ae-230a945604cc@www.providencejonesfuneralhome.com
DTSTAMP:20260424T091913Z
DTSTART:20260529T230000Z
DTEND:20260530T010000Z
SUMMARY:Visitation
DESCRIPTION:
URL:https://www.providencejonesfuneralhome.com/obituaries/adele-sanders
LOCATION:Providence-Jones Family Funeral Home 604 State Highway 95  Elgin 
	TX 78621
GEO:30.3619198;-97.378994
END:VEVENT
END:VCALENDAR