BEGIN:VCALENDAR
VERSION:2.0
PRODID:-//Tukios.com/
BEGIN:VEVENT
UID:c6f2cc59-9ba5-4b52-9264-b5da2bab9a49@www.providencejonesfuneralhome.com
DTSTAMP:20260424T091822Z
DTSTART:20260530T160000Z
DTEND:20260530T170000Z
SUMMARY:Memorial Service
DESCRIPTION:
URL:https://www.providencejonesfuneralhome.com/obituaries/adele-sanders
LOCATION:Providence-Jones Family Funeral Home 604 State Highway 95  Elgin 
	TX 78621
GEO:30.3619198;-97.378994
END:VEVENT
END:VCALENDAR